BEGIN:VCALENDAR
PRODID:-//eluceo/ical//2.0/EN
VERSION:2.0
CALSCALE:GREGORIAN
BEGIN:VEVENT
UID:7173a59669cc9d21663c62b921ad9fb6
DTSTAMP:20260423T013049Z
SUMMARY:louis-vuitton - Date de vente : 25/11/2013
DESCRIPTION:Nom du lots : Louis VUITTON\n\nSac "Speedy" 40cm en toile monog
 ram et cuir naturel\, fermeture éclair\, double poignée. Bon état (lég
 ères tâches).
DTSTART;VALUE=DATE:20131125
END:VEVENT
END:VCALENDAR
