BEGIN:VCALENDAR
PRODID:-//eluceo/ical//2.0/EN
VERSION:2.0
CALSCALE:GREGORIAN
BEGIN:VEVENT
UID:301cd0b5166b282c40b9d45d1d3745aa
DTSTAMP:20260423T032039Z
SUMMARY:fendi - Date de vente : 25/11/2013
DESCRIPTION:Nom du lots : FENDI\n\nSac bourse en vachette imprimée façon 
 panthère\, fermeture lien\, poignée tréssée. Très bon état.
DTSTART;VALUE=DATE:20131125
END:VEVENT
END:VCALENDAR
