BEGIN:VCALENDAR
PRODID:-//eluceo/ical//2.0/EN
VERSION:2.0
CALSCALE:GREGORIAN
BEGIN:VEVENT
UID:4e04a56ed2bb162c2c2cbf2151b9b3e4
DTSTAMP:20260423T033459Z
SUMMARY:alaa-circa-2012 - Date de vente : 25/11/2013
DESCRIPTION:Nom du lots : ALAÏA circa 2012\n\nEnsemble composé d’un twi
 n-set en jersey de laine parme et une jupe à l’identique à effet de dr
 apés festonés. Griffe beige\, graphisme blanc.
DTSTART;VALUE=DATE:20131125
END:VEVENT
END:VCALENDAR
