BEGIN:VCALENDAR
PRODID:-//eluceo/ical//2.0/EN
VERSION:2.0
CALSCALE:GREGORIAN
BEGIN:VEVENT
UID:7bc9c0c7a4f3e290622a66af7582e4d7
DTSTAMP:20260423T032125Z
SUMMARY:jekel - Date de vente : 25/11/2013
DESCRIPTION:Nom du lots : JEKEL\n\nParka zippée en cuir Agneau noir\, peti
 t col\, simple boutonnage à six pressions\, quatre poches zippées\, tail
 le coulissée par un lien\, surpiqures à effet géométrique.
DTSTART;VALUE=DATE:20131125
END:VEVENT
END:VCALENDAR
