BEGIN:VCALENDAR
PRODID:-//eluceo/ical//2.0/EN
VERSION:2.0
CALSCALE:GREGORIAN
BEGIN:VEVENT
UID:42fb72118e56f7d33fdfc6dfeca2698d
DTSTAMP:20260423T032345Z
SUMMARY:chrome-hearts - Date de vente : 25/11/2013
DESCRIPTION:Nom du lots : CHROME HEARTS\n\nVeste en cuir grené noir\, col 
 cranté\, devant zippé\, poches à l’identique\, une petit poche poitri
 ne\, dos orné d’une croix gothique\, manches longues (manque ceinture).
DTSTART;VALUE=DATE:20131125
END:VEVENT
END:VCALENDAR
