BEGIN:VCALENDAR
PRODID:-//eluceo/ical//2.0/EN
VERSION:2.0
CALSCALE:GREGORIAN
BEGIN:VEVENT
UID:a1a00b783a3a801380012e8f97677659
DTSTAMP:20260423T033429Z
SUMMARY:hermes-paris - Date de vente : 25/11/2013
DESCRIPTION:Nom du lots : HERMES Paris\n\nSwiss made n° CL2.910/1035319 Mo
 ntre "Clipper" grand modèle chrono à trois cadrans en acier\, lunette to
 urnante\, cadran noir\, chiffres arabe\, aiguilles et index luminescents\,
  dateur à quatre heure\, mouvement quartz\, bracelet en acier à boucle d
 éployante figurant des "H" brossés. Longueur: 16\,5cm. Cadran: 38mm.
DTSTART;VALUE=DATE:20131125
END:VEVENT
END:VCALENDAR
