BEGIN:VCALENDAR
PRODID:-//eluceo/ical//2.0/EN
VERSION:2.0
CALSCALE:GREGORIAN
BEGIN:VEVENT
UID:6c061f0cae5a1a36130d2977f8dbff5f
DTSTAMP:20260423T032039Z
SUMMARY:chanel - Date de vente : 25/11/2013
DESCRIPTION:Nom du lots : CHANEL\n\nCollection Coco Sac baguette 26cm en va
 chette façon poulain bordeaux frappé "Coco"\, fermeture en laiton doré 
 brossé sur rabat siglé\, anse chaîne en métal doré entrelacée de cui
 r jaune\, intérieur à l’identique. Très bon état.
DTSTART;VALUE=DATE:20131125
END:VEVENT
END:VCALENDAR
