BEGIN:VCALENDAR
PRODID:-//eluceo/ical//2.0/EN
VERSION:2.0
CALSCALE:GREGORIAN
BEGIN:VEVENT
UID:356ed957224fc166c1afe4866ac7bb4b
DTSTAMP:20260423T032147Z
SUMMARY:pajaro - Date de vente : 25/11/2013
DESCRIPTION:Nom du lots : PAJARO\n\n7/8ème À capuche en Vison bicolore da
 rk et scanbrown saga\, travail horizontal à incrustations de frise\, simp
 le boutonnage à un bouton\, deux poches horizontales.
DTSTART;VALUE=DATE:20131125
END:VEVENT
END:VCALENDAR
