BEGIN:VCALENDAR
PRODID:-//eluceo/ical//2.0/EN
VERSION:2.0
CALSCALE:GREGORIAN
BEGIN:VEVENT
UID:2d15c111d59b923e887f9a37fdd68dbd
DTSTAMP:20260423T032511Z
SUMMARY:blouson-rversible-en-envers-daim-beige-et - Date de vente : 25/11/2
 013
DESCRIPTION:Nom du lots : Blouson réversible en envers Daim beige et…\n\
 nBlouson réversible en envers Daim beige et Vison femelle scanbrown\, col
  cranté bordé de martre Zibeline marron du Canada\, simple boutonnage à
  deux boutons facettés\, taille coulissée sur un lien.
DTSTART;VALUE=DATE:20131125
END:VEVENT
END:VCALENDAR
