BEGIN:VCALENDAR
PRODID:-//eluceo/ical//2.0/EN
VERSION:2.0
CALSCALE:GREGORIAN
BEGIN:VEVENT
UID:29d102d2dc4bd6ff6f50c7e4681dd590
DTSTAMP:20260423T033429Z
SUMMARY:fontani - Date de vente : 25/11/2013
DESCRIPTION:Nom du lots : FONTANI\n\nDoudoune en daim imprimé panthère\, 
 col châle\, fermeture éclair sur deux poches passepoilées surpiquées e
 t sur le col.
DTSTART;VALUE=DATE:20131125
END:VEVENT
END:VCALENDAR
