BEGIN:VCALENDAR
PRODID:-//eluceo/ical//2.0/EN
VERSION:2.0
CALSCALE:GREGORIAN
BEGIN:VEVENT
UID:4b656425cf29e1795be3ad9dd0392e2c
DTSTAMP:20260423T033413Z
SUMMARY:chloe - Date de vente : 25/11/2013
DESCRIPTION:Nom du lots : CHLOE\n\nPortefeuille en reptile framboise\, int
 érieur doublé de cuir bordeaux
DTSTART;VALUE=DATE:20131125
END:VEVENT
END:VCALENDAR
