BEGIN:VCALENDAR
PRODID:-//eluceo/ical//2.0/EN
VERSION:2.0
CALSCALE:GREGORIAN
BEGIN:VEVENT
UID:2c1a76cb26fe8dab3d5bd0337906e797
DTSTAMP:20260423T032350Z
SUMMARY:christian-dior - Date de vente : 25/11/2013
DESCRIPTION:Nom du lots : Christian DIOR\n\nSac 38cm en cuir grené marron\
 , fermeture éclair\, coutures rehaussées d’un entrelac de cuir\, doubl
 e poignée\, attaches en cuir tréssé\, poche extérieure à rabat sur pr
 ession. Très bon état (légère tâche).
DTSTART;VALUE=DATE:20131125
END:VEVENT
END:VCALENDAR
