BEGIN:VCALENDAR
PRODID:-//eluceo/ical//2.0/EN
VERSION:2.0
CALSCALE:GREGORIAN
BEGIN:VEVENT
UID:087dcf90013ab1400bf763ea6876d555
DTSTAMP:20260423T033413Z
SUMMARY:hermes - Date de vente : 25/11/2013
DESCRIPTION:Nom du lots : HERMES\n\nParis made in France N°687468 Montre "
 Kelly" plaqué or\, cadran jaune\, mouvement quartz\, bracelet en cuir gre
 né camel à surpiqures blanches.
DTSTART;VALUE=DATE:20131125
END:VEVENT
END:VCALENDAR
