BEGIN:VCALENDAR
PRODID:-//eluceo/ical//2.0/EN
VERSION:2.0
CALSCALE:GREGORIAN
BEGIN:VEVENT
UID:1912f4bf91c6ed60546b7b2646cc146d
DTSTAMP:20260423T031244Z
SUMMARY:marc-jacobs - Date de vente : 25/11/2013
DESCRIPTION:Nom du lots : Marc JACOBS\n\nVeste d’inspiration militaire en
  gabardine verte\, col cranté\, quatre poches sous rabats boutonnés\, ef
 fet de surpiqures\, manches longues\, bas de la veste orné d’un volant 
 en soie polyester façonné à motif floral\, nous y joignons une ceinture
  fine en cuir coordonnée.
DTSTART;VALUE=DATE:20131125
END:VEVENT
END:VCALENDAR
