BEGIN:VCALENDAR
PRODID:-//eluceo/ical//2.0/EN
VERSION:2.0
CALSCALE:GREGORIAN
BEGIN:VEVENT
UID:e521f355c55466a93dfaa7d19e8aa970
DTSTAMP:20260423T032233Z
SUMMARY:krizia - Date de vente : 25/11/2013
DESCRIPTION:Nom du lots : KRIZIA\n\nTrench en satin polyester noir col cran
 té\, effet de bavolet\, double boutonnage\, deux poches plaquées\, ceint
 ure.
DTSTART;VALUE=DATE:20131125
END:VEVENT
END:VCALENDAR
