BEGIN:VCALENDAR
PRODID:-//eluceo/ical//2.0/EN
VERSION:2.0
CALSCALE:GREGORIAN
BEGIN:VEVENT
UID:ff9948279cf72ffc339d1015e2a5d605
DTSTAMP:20260423T032505Z
SUMMARY:salvatore-ferragamo - Date de vente : 25/11/2013
DESCRIPTION:Nom du lots : Salvatore FERRAGAMO\n\nManteau de style militaire
  en drap chiné vert\, col en cuir kaki\, double boutonnage métal\, deux 
 poches\, manches longues\, dos à plis creux souligné d’une martingale.
DTSTART;VALUE=DATE:20131125
END:VEVENT
END:VCALENDAR
