BEGIN:VCALENDAR
PRODID:-//eluceo/ical//2.0/EN
VERSION:2.0
CALSCALE:GREGORIAN
BEGIN:VEVENT
UID:f8958457be48fc10a1a53eba6f868419
DTSTAMP:20260423T032350Z
SUMMARY:alaa-circa-19981999 - Date de vente : 25/11/2013
DESCRIPTION:Nom du lots : ALAÏA circa 1998/1999\n\nJupe longue en cuir agn
 eau noir de forme droite\, bas du dos à effet de quilles. Griffe blanche\
 , graphisme noir.
DTSTART;VALUE=DATE:20131125
END:VEVENT
END:VCALENDAR
