BEGIN:VCALENDAR
PRODID:-//eluceo/ical//2.0/EN
VERSION:2.0
CALSCALE:GREGORIAN
BEGIN:VEVENT
UID:f711c6d9bec05a93f5fc92110b570ebe
DTSTAMP:20260423T031324Z
SUMMARY:limi - Date de vente : 25/11/2013
DESCRIPTION:Nom du lots : LIMI\n\nFeu Pantalon sarouel en soie gauffrée im
 primée en trompe l’oeil de motifs blancs sur fond noir. Griffe noire\, 
 graphisme blanc.
DTSTART;VALUE=DATE:20131125
END:VEVENT
END:VCALENDAR
