BEGIN:VCALENDAR
PRODID:-//eluceo/ical//2.0/EN
VERSION:2.0
CALSCALE:GREGORIAN
BEGIN:VEVENT
UID:5efbea0df496aaa7b424ef0963ded8bf
DTSTAMP:20260423T031715Z
SUMMARY:yohji-yamamoto - Date de vente : 25/11/2013
DESCRIPTION:Nom du lots : Yohji YAMAMOTO\n\nEnsemble Pantalon en velours no
 ir à rayures roses blanches\, veste à col châle cranté\, double bouton
 nage\, poches zippées\, pantalon droit.
DTSTART;VALUE=DATE:20131125
END:VEVENT
END:VCALENDAR
