BEGIN:VCALENDAR
PRODID:-//eluceo/ical//2.0/EN
VERSION:2.0
CALSCALE:GREGORIAN
BEGIN:VEVENT
UID:003a84bee1030dee59026ccfc81cae2f
DTSTAMP:20260423T033516Z
SUMMARY:alaa-circa-20062007 - Date de vente : 25/11/2013
DESCRIPTION:Nom du lots : ALAÏA circa 2006/2007\n\nEnsemble en composite g
 ommé gris\, noir à motif végétal\, composé d’une blouse à petit co
 l\, manches longues et jupe ample doublée du même matériaux blanc\, Gri
 ffe beige\, graphisme blanc.
DTSTART;VALUE=DATE:20131125
END:VEVENT
END:VCALENDAR
