BEGIN:VCALENDAR
PRODID:-//eluceo/ical//2.0/EN
VERSION:2.0
CALSCALE:GREGORIAN
BEGIN:VEVENT
UID:bf964d707a8b7611a8a79473a8e2449b
DTSTAMP:20260423T031756Z
SUMMARY:245-saint-honor-by-yves-salomon-910me - Date de vente : 25/11/2013
DESCRIPTION:Nom du lots : 245 Saint Honoré by Yves Salomon 9/10ème…\n\n
 245 Saint Honoré by Yves Salomon 9/10ème en Vison femelle saphir\, trava
 il pleines peaux\, encolure ronde\, simple boutonnage à cinq boutons pres
 sion.
DTSTART;VALUE=DATE:20131125
END:VEVENT
END:VCALENDAR
