BEGIN:VCALENDAR
PRODID:-//eluceo/ical//2.0/EN
VERSION:2.0
CALSCALE:GREGORIAN
BEGIN:VEVENT
UID:2128b945ba66f79a345af1eaf1428d8b
DTSTAMP:20260423T033628Z
SUMMARY:hermes-paris-made-in-france-anne-2005 - Date de vente : 25/11/2013
DESCRIPTION:Nom du lots : HERMES Paris made in France année 2005\n\nExcept
 ionnel sac "Birkin" 35cm en crocodile porosus orange\, attaches et fermoir
  palladium\, double poignée\, clefs\, cadenas recouvert\, protège-pluie.
  Très bon état. Ce lot a été confectionné dans les parties d’espèc
 es de crocodylidaes spp\, classées aux Annexes II/B de la Convention de W
 ashington et de la Règle 338/97 du CE du 9/12/1996. Pour une sortie de l
 ’UE un CITES d’export sera nécessaire celui-ci étant à la charge du
  futur acquéreur.
DTSTART;VALUE=DATE:20131125
END:VEVENT
END:VCALENDAR
