BEGIN:VCALENDAR
PRODID:-//eluceo/ical//2.0/EN
VERSION:2.0
CALSCALE:GREGORIAN
BEGIN:VEVENT
UID:6a31b03f952505f82579937f7d8c9776
DTSTAMP:20260423T032505Z
SUMMARY:yves-saint-laurent - Date de vente : 25/11/2013
DESCRIPTION:Nom du lots : Yves SAINT LAURENT\n\nSautoir composé de perles 
 rouges\, noires ornées de filets or\, agrémentées de deux feuilles en m
 étal doré. Signé.
DTSTART;VALUE=DATE:20131125
END:VEVENT
END:VCALENDAR
