BEGIN:VCALENDAR
PRODID:-//eluceo/ical//2.0/EN
VERSION:2.0
CALSCALE:GREGORIAN
BEGIN:VEVENT
UID:6980c82e6ba1fb84903def09448c4548
DTSTAMP:20260423T032613Z
SUMMARY:hermes-paris-made-in-france-anne-1993 - Date de vente : 25/11/2013
DESCRIPTION:Nom du lots : HERMES Paris made in France année 1993\n\nSac "H
 aut à Courroies" 32cm en cuir gold à surpiqures blanches\, attaches et f
 ermoir plaqué or\, double poignée\, clefs. Bon état (manque cadenas\, l
 égères égrenures\, légères usures).
DTSTART;VALUE=DATE:20131125
END:VEVENT
END:VCALENDAR
