BEGIN:VCALENDAR
PRODID:-//eluceo/ical//2.0/EN
VERSION:2.0
CALSCALE:GREGORIAN
BEGIN:VEVENT
UID:0bd819570e16338cc61fa90a4be3a78e
DTSTAMP:20260423T032339Z
SUMMARY:agns-gercault - Date de vente : 25/11/2013
DESCRIPTION:Nom du lots : Agnès GERCAULT\n\n9/10ème En Vison aurora\, tra
 vail horizontal arrêtes sur flanc\, petit col droit\, boutonnage à un bo
 uton de nacre\, poches verticales.
DTSTART;VALUE=DATE:20131125
END:VEVENT
END:VCALENDAR
