BEGIN:VCALENDAR
PRODID:-//eluceo/ical//2.0/EN
VERSION:2.0
CALSCALE:GREGORIAN
BEGIN:VEVENT
UID:28bb4f816cb512eda214a4a12461e53f
DTSTAMP:20260423T031203Z
SUMMARY:revillon - Date de vente : 25/11/2013
DESCRIPTION:Nom du lots : REVILLON\n\nManteau long en Martre Zibeline blond
 e du Canada\, travail pleine peau\, col double parementure\, travail horiz
 ontal\, revers de manches.
DTSTART;VALUE=DATE:20131125
END:VEVENT
END:VCALENDAR
