BEGIN:VCALENDAR
PRODID:-//eluceo/ical//2.0/EN
VERSION:2.0
CALSCALE:GREGORIAN
BEGIN:VEVENT
UID:40674a041b50609b5a91e42bdfedaab9
DTSTAMP:20260423T031641Z
SUMMARY:valentino-garavani - Date de vente : 25/11/2013
DESCRIPTION:Nom du lots : VALENTINO Garavani\n\nPochette en vachette façon
  poulain imprimée à motifs de plumes de perdrix\, fermetures Eclair\, dr
 agonne\, face ornée d’une plaque de laiton doré et cuir.
DTSTART;VALUE=DATE:20131125
END:VEVENT
END:VCALENDAR
