BEGIN:VCALENDAR
PRODID:-//eluceo/ical//2.0/EN
VERSION:2.0
CALSCALE:GREGORIAN
BEGIN:VEVENT
UID:09478aeea422e8bfee048afc61b55573
DTSTAMP:20260423T052425Z
SUMMARY:blouson-zipp-en-vison-femelle-dark-saga - Date de vente : 25/11/201
 3
DESCRIPTION:Nom du lots : Blouson zippé en Vison femelle dark Saga\,…\n\
 nBlouson zippé en Vison femelle dark Saga\, travail horizontal froncé\, 
 sur\, intercalaires de Vison rasé\, col\, bas de manches et du vêtement 
 en Vison dark rasé cotelé.
DTSTART;VALUE=DATE:20131125
END:VEVENT
END:VCALENDAR
