BEGIN:VCALENDAR
PRODID:-//eluceo/ical//2.0/EN
VERSION:2.0
CALSCALE:GREGORIAN
BEGIN:VEVENT
UID:cf8d50c8e06d9799d69db3bb3836cf79
DTSTAMP:20260423T051951Z
SUMMARY:minnetonka - Date de vente : 25/11/2013
DESCRIPTION:Nom du lots : MINNETONKA\n\nBottes en crôute de porc camel à 
 lacets sur le devant et ornées de franges\, taille 40.
DTSTART;VALUE=DATE:20131125
END:VEVENT
END:VCALENDAR
