BEGIN:VCALENDAR
PRODID:-//eluceo/ical//2.0/EN
VERSION:2.0
CALSCALE:GREGORIAN
BEGIN:VEVENT
UID:ef30f4b6522ffd55ccf21fcbf5c3412c
DTSTAMP:20260423T052016Z
SUMMARY:gucci - Date de vente : 25/11/2013
DESCRIPTION:Nom du lots : GUCCI\n\nSac souple en reptile gris dégradé fer
 meture Eclair\, devant orné d’un médaillon en laiton doré.
DTSTART;VALUE=DATE:20131125
END:VEVENT
END:VCALENDAR
