BEGIN:VCALENDAR
PRODID:-//eluceo/ical//2.0/EN
VERSION:2.0
CALSCALE:GREGORIAN
BEGIN:VEVENT
UID:58e6405403ebe564380f35afd3e961d0
DTSTAMP:20260423T051849Z
SUMMARY:givenchy - Date de vente : 25/11/2013
DESCRIPTION:Nom du lots : GIVENCHY\n\nPochette de forme enveloppe en lin et
  soie écossais beige\, marron gansé de cuir coordoné\, fermoir pression
  sous rabat\, peut se porter en bandoulière.
DTSTART;VALUE=DATE:20131125
END:VEVENT
END:VCALENDAR
