BEGIN:VCALENDAR
PRODID:-//eluceo/ical//2.0/EN
VERSION:2.0
CALSCALE:GREGORIAN
BEGIN:VEVENT
UID:52c75d7d3db3d2c9802dd91e8fe429df
DTSTAMP:20260423T052334Z
SUMMARY:hermes-paris-made-in-france - Date de vente : 25/11/2013
DESCRIPTION:Nom du lots : HERMES Paris made in France\n\nBracelet "Chaîne 
 d’ancre" en argent\, fermoir bâtonnet. Pds: 57\,6 grs environ. Longueur
 : 21.5cm.
DTSTART;VALUE=DATE:20131125
END:VEVENT
END:VCALENDAR
