BEGIN:VCALENDAR
PRODID:-//eluceo/ical//2.0/EN
VERSION:2.0
CALSCALE:GREGORIAN
BEGIN:VEVENT
UID:0ebba8780e9f025ebdf33b0a6a8df57f
DTSTAMP:20260423T051952Z
SUMMARY:adeline-andre - Date de vente : 25/11/2013
DESCRIPTION:Nom du lots : Adeline ANDRE\n\nEnsemble pantalon en laine et so
 ie écru\, composé d’une tunique à encolure bateau sur un effet de bra
 ssière\, petites manches et un pantalon droit. Griffe blanche\, graphisme
  noir.
DTSTART;VALUE=DATE:20131125
END:VEVENT
END:VCALENDAR
