BEGIN:VCALENDAR
PRODID:-//eluceo/ical//2.0/EN
VERSION:2.0
CALSCALE:GREGORIAN
BEGIN:VEVENT
UID:bb48f76c205a54a2b23dd1dd975f7744
DTSTAMP:20260423T051950Z
SUMMARY:vionnet - Date de vente : 25/11/2013
DESCRIPTION:Nom du lots : VIONNET\n\nManteau en peau lainée marron\, col t
 ailleur\, double boutonnage\, jupe ample avec effet de découpes (sans gri
 ffe\, taches\, manque ceinture).
DTSTART;VALUE=DATE:20131125
END:VEVENT
END:VCALENDAR
