BEGIN:VCALENDAR
PRODID:-//eluceo/ical//2.0/EN
VERSION:2.0
CALSCALE:GREGORIAN
BEGIN:VEVENT
UID:d95b789a80fe9904006fc5bc0e781e86
DTSTAMP:20260423T052016Z
SUMMARY:grandi - Date de vente : 25/11/2013
DESCRIPTION:Nom du lots : GRANDI\n\nVeste en envers cuir gris et Astrakan B
 ukhara lustré ambré\, col cranté\, parementures en chinchilla lustré.
DTSTART;VALUE=DATE:20131125
END:VEVENT
END:VCALENDAR
