BEGIN:VCALENDAR
PRODID:-//eluceo/ical//2.0/EN
VERSION:2.0
CALSCALE:GREGORIAN
BEGIN:VEVENT
UID:77f5eedec556c845a103d8c6519b50c2
DTSTAMP:20260423T052306Z
SUMMARY:jacques-detourbay-grard-de-graaf - Date de vente : 25/11/2013
DESCRIPTION:Nom du lots : Jacques DETOURBAY - Gérard de GRAAF\n\nTrench co
 at en Vison lutecia\, col cranté\, simple boutonnage\, pattes de manches\
 , bavolet au dos\, ceinture.
DTSTART;VALUE=DATE:20131125
END:VEVENT
END:VCALENDAR
