BEGIN:VCALENDAR
PRODID:-//eluceo/ical//2.0/EN
VERSION:2.0
CALSCALE:GREGORIAN
BEGIN:VEVENT
UID:49a2fd1ba0f3eb908d95f7bd556d6467
DTSTAMP:20260422T232708Z
SUMMARY:chanel - Date de vente : 17/11/2013
DESCRIPTION:Nom du lots : CHANEL\n\nSac de forme carrée 18cm en cuir agnea
 u matelassé pêche\, et toile siglée\, fermeture coulissée sur un lien\
 , fermeture agrémentée d’un charms en acier rhodié vieilli sur pompon
  frangé de cuir\, poignée. Très bon état.
DTSTART;VALUE=DATE:20131117
END:VEVENT
END:VCALENDAR
