BEGIN:VCALENDAR
PRODID:-//eluceo/ical//2.0/EN
VERSION:2.0
CALSCALE:GREGORIAN
BEGIN:VEVENT
UID:3df60ef4d33ec1becc0ef7811ac397e5
DTSTAMP:20260422T232651Z
SUMMARY:fendi - Date de vente : 17/11/2013
DESCRIPTION:Nom du lots : FENDI\n\nSac du soir 21cm rectangulaire en satin 
 de soie vert d’eau rebrodé de perles tubulaires multicolores\, blanc\, 
 bleu et vert\, et cuir marine\, fermeture aimantée sur languette rehauss
 ée du sigle en métal chromé émaillé\, double poignée réglable. Trè
 s bon état.
DTSTART;VALUE=DATE:20131117
END:VEVENT
END:VCALENDAR
