BEGIN:VCALENDAR
PRODID:-//eluceo/ical//2.0/EN
VERSION:2.0
CALSCALE:GREGORIAN
BEGIN:VEVENT
UID:21417c01359f2f2122025522224957ac
DTSTAMP:20260423T013417Z
SUMMARY:yves-saint-laurent-rive-gauche - Date de vente : 17/11/2013
DESCRIPTION:Nom du lots : YVES SAINT LAURENT RIVE GAUCHE\n\nSomptueux colli
 er composé de perles en céramique turquoise\, bleue nuit\, entrecoupées
  de motifs godronnés en laiton doré\, retenant un motif au centre\, sert
 i de cabochons façon lapis lazuli et de perles de résine\, rehaussés de
  trois pendentifs. Signé.
DTSTART;VALUE=DATE:20131117
END:VEVENT
END:VCALENDAR
