BEGIN:VCALENDAR
PRODID:-//eluceo/ical//2.0/EN
VERSION:2.0
CALSCALE:GREGORIAN
BEGIN:VEVENT
UID:29ed19cf0828a01a0a7be8dac6385477
DTSTAMP:20260423T013423Z
SUMMARY:hermes-paris-made-in-france - Date de vente : 17/11/2013
DESCRIPTION:Nom du lots : HERMES PARIS MADE IN FRANCE\n\nTour de cou en arg
 ent figurant une chaîne retenant un pendentif figurant le sac Evelyne. Pd
 s: 10\,6 grs environ.
DTSTART;VALUE=DATE:20131117
END:VEVENT
END:VCALENDAR
