BEGIN:VCALENDAR
PRODID:-//eluceo/ical//2.0/EN
VERSION:2.0
CALSCALE:GREGORIAN
BEGIN:VEVENT
UID:ac9568e007bb36a82416bc0d942b75cf
DTSTAMP:20260423T013309Z
SUMMARY:jean-paul-gaultier - Date de vente : 17/11/2013
DESCRIPTION:Nom du lots : JEAN PAUL GAULTIER\n\nSautoir double rang compos
 é de chaines perlées en métal vieilli noir retenant un pendentif à l
 ’imitation pâte de verre améthyste orné d’une rosace identique au s
 autoir finissant par trois pampilles. Signé
DTSTART;VALUE=DATE:20131117
END:VEVENT
END:VCALENDAR
