BEGIN:VCALENDAR
PRODID:-//eluceo/ical//2.0/EN
VERSION:2.0
CALSCALE:GREGORIAN
BEGIN:VEVENT
UID:b77051b821f777fa4391ae236f9c780f
DTSTAMP:20260423T012025Z
SUMMARY:chloe - Date de vente : 17/11/2013
DESCRIPTION:Nom du lots : CHLOE\n\nSac demi-lune en coton noir\, rehaussé 
 de pompons en acier brossé et en composite noir\, fermeture éclair\, poi
 gnée retenue par deux anneaux en acier brossé surmontant deux motifs ajo
 urés à l’identique. Bon état.
DTSTART;VALUE=DATE:20131117
END:VEVENT
END:VCALENDAR
