BEGIN:VCALENDAR
PRODID:-//eluceo/ical//2.0/EN
VERSION:2.0
CALSCALE:GREGORIAN
BEGIN:VEVENT
UID:dc4e94f80fa3bd3c4edce77aa9dfd331
DTSTAMP:20260423T013048Z
SUMMARY:swarovski - Date de vente : 17/11/2013
DESCRIPTION:Nom du lots : SWAROVSKI\n\nBracelet jonc ouvrant en métal dor
 é orné sur une partie de strass à l’imitation brillant. Signé.
DTSTART;VALUE=DATE:20131117
END:VEVENT
END:VCALENDAR
