BEGIN:VCALENDAR
PRODID:-//eluceo/ical//2.0/EN
VERSION:2.0
CALSCALE:GREGORIAN
BEGIN:VEVENT
UID:64a3199381f2054adea6a90328bc0304
DTSTAMP:20260423T115636Z
SUMMARY:kenzo - Date de vente : 27/10/2013
DESCRIPTION:Nom du lots : KENZO\n\nPendentif monté sur métal doré rosé 
 figurant un motif pendeloque sur chaîne tubogaz\, boucles d’oreille à 
 l’identique. Signé
DTSTART;VALUE=DATE:20131027
END:VEVENT
END:VCALENDAR
