BEGIN:VCALENDAR
PRODID:-//eluceo/ical//2.0/EN
VERSION:2.0
CALSCALE:GREGORIAN
BEGIN:VEVENT
UID:1e89384f3125fcb794d9dc868f65e76a
DTSTAMP:20260423T115643Z
SUMMARY:pierre-balmain - Date de vente : 27/10/2013
DESCRIPTION:Nom du lots : PIERRE BALMAIN\n\nEnsemble composé d’un sautoi
 r formant des palmettes et perles entrecoupées de chaînes et d’un pend
 entif monté sur une chaîne tubogaz en métal doré
DTSTART;VALUE=DATE:20131027
END:VEVENT
END:VCALENDAR
