BEGIN:VCALENDAR
PRODID:-//eluceo/ical//2.0/EN
VERSION:2.0
CALSCALE:GREGORIAN
BEGIN:VEVENT
UID:354eaad3f8b743666eb74a93b14a70b8
DTSTAMP:20260423T120040Z
SUMMARY:louis-vuitton-anne-2006 - Date de vente : 27/10/2013
DESCRIPTION:Nom du lots : LOUIS VUITTON ANNÉE 2006\n\nSac "Stamp" 30 cm en
  veau velours chaudron\, cuir vernis noir\, fermeture éclair\, double poi
 gnée en cuir bordeaux façon crocodile\, poche extérieure zippée\, ferm
 eture sur pression. Très bon état
DTSTART;VALUE=DATE:20131027
END:VEVENT
END:VCALENDAR
