BEGIN:VCALENDAR
PRODID:-//eluceo/ical//2.0/EN
VERSION:2.0
CALSCALE:GREGORIAN
BEGIN:VEVENT
UID:24fc9df49b5365fc0873b692cbdcedc7
DTSTAMP:20260423T120046Z
SUMMARY:yves-saint-laurent-circa-2000 - Date de vente : 27/10/2013
DESCRIPTION:Nom du lots : YVES SAINT LAURENT CIRCA 2000\n\nBracelet manchet
 te ouvert en métal doré gravé d’inspiration esclave orné d’une imp
 ortante plaque en agate brune rehaussée d’une pierre dure sertie de mé
 tal doré. Signé
DTSTART;VALUE=DATE:20131027
END:VEVENT
END:VCALENDAR
