BEGIN:VCALENDAR
PRODID:-//eluceo/ical//2.0/EN
VERSION:2.0
CALSCALE:GREGORIAN
BEGIN:VEVENT
UID:22cb662e0dce0499b3d57f512f746619
DTSTAMP:20260423T120321Z
SUMMARY:jean-paul-gaultier-circa-1990 - Date de vente : 27/10/2013
DESCRIPTION:Nom du lots : JEAN PAUL GAULTIER CIRCA 1990\n\nBracelet manchet
 te d’inspiration ethnique en laiton façon bronze à patine brune\, grav
 é d’un motif pointes de diamants sur quatre rangs et rehaussé de caboc
 hons en pâte de verre mordorée. Signé
DTSTART;VALUE=DATE:20131027
END:VEVENT
END:VCALENDAR
