BEGIN:VCALENDAR
PRODID:-//eluceo/ical//2.0/EN
VERSION:2.0
CALSCALE:GREGORIAN
BEGIN:VEVENT
UID:95434a1c6bb7f937b2ad9bb1da320e8b
DTSTAMP:20260423T115820Z
SUMMARY:chanel-circa-2007 - Date de vente : 27/10/2013
DESCRIPTION:Nom du lots : CHANEL CIRCA 2007\n\nBracelet composé d’un esc
 argot orné de strass et de perles retenues par des chaînes en métal arg
 enté agrémenté de breloques de perles. Signé\, daté
DTSTART;VALUE=DATE:20131027
END:VEVENT
END:VCALENDAR
