BEGIN:VCALENDAR
PRODID:-//eluceo/ical//2.0/EN
VERSION:2.0
CALSCALE:GREGORIAN
BEGIN:VEVENT
UID:fa6ab3471b24dba795d5724939c75941
DTSTAMP:20260423T115636Z
SUMMARY:gucci - Date de vente : 27/10/2013
DESCRIPTION:Nom du lots : GUCCI\n\nBoucle de ceinture en argent et émail f
 igurant un tigre. Bon état. Poids brut: 52\,4 gr environ
DTSTART;VALUE=DATE:20131027
END:VEVENT
END:VCALENDAR
